BEGIN:VCALENDAR
VERSION:2.0
PRODID:-//Catholic Academy of Sacred Music - ECPv6.10.1.1//NONSGML v1.0//EN
CALSCALE:GREGORIAN
METHOD:PUBLISH
X-ORIGINAL-URL:https://catholicacademyofsacredmusic.org
X-WR-CALDESC:Events for Catholic Academy of Sacred Music
REFRESH-INTERVAL;VALUE=DURATION:PT1H
X-Robots-Tag:noindex
X-PUBLISHED-TTL:PT1H
BEGIN:VTIMEZONE
TZID:America/Chicago
BEGIN:DAYLIGHT
TZOFFSETFROM:-0600
TZOFFSETTO:-0500
TZNAME:CDT
DTSTART:20240310T080000
END:DAYLIGHT
BEGIN:STANDARD
TZOFFSETFROM:-0500
TZOFFSETTO:-0600
TZNAME:CST
DTSTART:20241103T070000
END:STANDARD
END:VTIMEZONE
BEGIN:VEVENT
DTSTART;TZID=America/Chicago:20241215T150000
DTEND;TZID=America/Chicago:20241215T163000
DTSTAMP:20260423T185545
CREATED:20240820T154338Z
LAST-MODIFIED:20240820T154338Z
UID:242-1734274800-1734280200@catholicacademyofsacredmusic.org
SUMMARY:25th Annual Festival of Lessons & Carols
DESCRIPTION:Silver Jubilee Celebration of familiar scripture readings & time-honored carols from the Old Testament foretelling of the Savior to the birth of Jesus Christ. A freewill offering will be collected to further the ministry of the Catholic Academy of Sacred Music.
URL:https://catholicacademyofsacredmusic.org/event/25th-annual-festival-of-lessons-carols/
LOCATION:Most Pure Heart of Mary Catholic Church\, 3601 SW 17th St\, Topeka\, KS\, 66604\, United States
END:VEVENT
END:VCALENDAR